BEGIN:VCALENDAR
PRODID:-//eluceo/ical//2.0/EN
VERSION:2.0
CALSCALE:GREGORIAN
BEGIN:VEVENT
UID:aa2024d7230e922b81dd9393c3d1f207
DTSTAMP:20260424T014429Z
SUMMARY:12:15 PM - JCA - Challah Baking 101
DESCRIPTION:Jewish Federation & Foundation of Northeast Florida\nCommunity 
 Calendar\nhttps://jewishjacksonville.org/jewish-federation-of-jacksonville
 -calendar/1215-pm-jca--challah-baking-101-2022\n\nChallah Baking 101 \n\nS
 tart the Jewish new year off by learning how to make your own challah from
  scratch with Sandy Oasis. Everyone will take home a freshly baked challah
  to enjoy. Plus\, learn how to make one at home for Rosh Hashanah. Class i
 s limited to eight. Registration ends Sep 5. \n\nMon\, Sep 12 | 12:15 - 2:
 30 pm \n$27 | $18 Valued member \n\nFor more information\, please contact
  Rachel Sandler at rachel.sandler@jcajax.org or call (904) 730-2100 ext. 2
 71.
DTSTART;TZID=America/New_York:20220912T121500
DTEND;TZID=America/New_York:20220912T143000
END:VEVENT
END:VCALENDAR
