BEGIN:VCALENDAR
PRODID:-//eluceo/ical//2.0/EN
VERSION:2.0
CALSCALE:GREGORIAN
BEGIN:VEVENT
UID:4a722e3a76f2ae0a0538e840ba3e1a55
DTSTAMP:20260423T155606Z
SUMMARY:*12:00 River Garden Golf Classic
DESCRIPTION:Jewish Federation & Foundation of Northeast Florida\nCommunity 
 Calendar\nhttps://jewishjacksonville.org/jewish-federation-of-jacksonville
 -calendar/1200-river-garden-golf-classic\n\nRegistration online will open 
 approx. Jan. 2023.\n\nDay of event: April 19\, 2023
DTSTART;TZID=America/New_York:20230419T120000
DTEND;TZID=America/New_York:20230419T180000
END:VEVENT
END:VCALENDAR
