BEGIN:VCALENDAR
PRODID:-//eluceo/ical//2.0/EN
VERSION:2.0
CALSCALE:GREGORIAN
BEGIN:VEVENT
UID:d21707cf1401db157e6d02a53a830522
DTSTAMP:20260423T110505Z
SUMMARY:*12:00 PM River Garden Classic - Foundation
DESCRIPTION:Jewish Federation & Foundation of Northeast Florida\nCommunity 
 Calendar\nhttps://jewishjacksonville.org/jewish-federation-of-jacksonville
 -calendar/1200-pm-river-garden-foundation-annual-golf-classic-2022\n\nRive
 r Garden Golf Classic\n\nat Deerwood
DTSTART;TZID=America/New_York:20220413T120000
DTEND;TZID=America/New_York:20220413T180000
END:VEVENT
END:VCALENDAR
