BEGIN:VCALENDAR
PRODID:-//eluceo/ical//2.0/EN
VERSION:2.0
CALSCALE:GREGORIAN
BEGIN:VEVENT
UID:5d590362948bf4ad9dc3389137e342dc
DTSTAMP:20260424T015953Z
SUMMARY:12:00 PM Lunch with Goldie Congregation Ahavath Chesed
DESCRIPTION:Jewish Federation & Foundation of Northeast Florida\nCommunity 
 Calendar\nhttps://jewishjacksonville.org/jewish-federation-of-jacksonville
 -calendar/1200-pm-lunch-with-goldie-congregation-ahavath-chesed\n\n"Travel
 " to Cuba as Goldie shares her experiences with the Jewish Community in Ha
 vana\, Cuba.
DTSTART;TZID=America/New_York:20170117T120000
DTEND;TZID=America/New_York:20170117T133000
END:VEVENT
END:VCALENDAR
