BEGIN:VCALENDAR
PRODID:-//eluceo/ical//2.0/EN
VERSION:2.0
CALSCALE:GREGORIAN
BEGIN:VEVENT
UID:84c2fef8464dda777f9b45f5ca129e2d
DTSTAMP:20260426T042430Z
SUMMARY:12:00 PM Lunch & Learn
DESCRIPTION:Jewish Federation & Foundation of Northeast Florida\nCommunity 
 Calendar\nhttps://jewishjacksonville.org/jewish-federation-of-jacksonville
 -calendar/1200-pm-lunch-learn-may-23\n\nDowntown Lunch & Learn - Rabbi Fei
 genbaum\n\nSponsor- Mark Kahn\n\n11th Floor of Bank of America Tower \n\n
 50th North Laura Street\, Jacksonville\, FL 32202
DTSTART;TZID=America/New_York:20190523T120000
DTEND;TZID=America/New_York:20190523T140000
END:VEVENT
END:VCALENDAR
