BEGIN:VCALENDAR
PRODID:-//eluceo/ical//2.0/EN
VERSION:2.0
CALSCALE:GREGORIAN
BEGIN:VEVENT
UID:f1a6d520f0f884b0c28f3c4c4a70cdbd
DTSTAMP:20260423T191350Z
SUMMARY:12:00 PM Lunch & Learn
DESCRIPTION:Jewish Federation & Foundation of Northeast Florida\nCommunity 
 Calendar\nhttps://jewishjacksonville.org/jewish-federation-of-jacksonville
 -calendar/1200-pm-lunch-learn-mar-14\n\nSponsors: Tony and Arlene Adelson\
 n\nLocation: 1804 San Marco Place\, Jacksonville\, FL 32207\n\n \n\n 
DTSTART;TZID=America/New_York:20190314T120000
DTEND;TZID=America/New_York:20190314T140000
END:VEVENT
END:VCALENDAR
