BEGIN:VCALENDAR
PRODID:-//eluceo/ical//2.0/EN
VERSION:2.0
CALSCALE:GREGORIAN
BEGIN:VEVENT
UID:c3665b8154ef527dbf5f60e5f5e15fda
DTSTAMP:20260420T173716Z
SUMMARY:12:00 PM Lunch & Learn
DESCRIPTION:Jewish Federation & Foundation of Northeast Florida\nCommunity 
 Calendar\nhttps://jewishjacksonville.org/jewish-federation-of-jacksonville
 -calendar/1200-pm-lunch-learn-downtown\n\nDowntown Lunch & Learn\n\nSponso
 r: Sandy Zimmerman
DTSTART;TZID=America/New_York:20181025T120000
DTEND;TZID=America/New_York:20181025T140000
END:VEVENT
END:VCALENDAR
