BEGIN:VCALENDAR
PRODID:-//eluceo/ical//2.0/EN
VERSION:2.0
CALSCALE:GREGORIAN
BEGIN:VEVENT
UID:1913901bfe95c1e1be0db1f520d73a2c
DTSTAMP:20260423T123117Z
SUMMARY:12:00 PM Lunch & Learn
DESCRIPTION:Jewish Federation & Foundation of Northeast Florida\nCommunity 
 Calendar\nhttps://jewishjacksonville.org/jewish-federation-of-jacksonville
 -calendar/1200-pm-lunch-learn-apr-11\n\nDowntown Lunch & Learn\n\nSponsor:
  Adam Schaffer\n\n11th Floor of Bank of America Tower\, 50 North Laura Str
 eet\, Jacksnville FL 32202
DTSTART;TZID=America/New_York:20180411T120000
DTEND;TZID=America/New_York:20180411T140000
END:VEVENT
END:VCALENDAR
