BEGIN:VCALENDAR
PRODID:-//eluceo/ical//2.0/EN
VERSION:2.0
CALSCALE:GREGORIAN
BEGIN:VEVENT
UID:48598a6e2d4fc0c2e9e7af8ba82b078c
DTSTAMP:20260422T175223Z
SUMMARY:12:00 PM JJC Kiddush Luncheon Pesach
DESCRIPTION:Jewish Federation & Foundation of Northeast Florida\nCommunity 
 Calendar\nhttps://jewishjacksonville.org/jewish-federation-of-jacksonville
 -calendar/1200-pm-jjc-kiddush-luncheon-pesach\n\nKiddush luncheon
DTSTART;TZID=America/New_York:20220417T120000
DTEND;TZID=America/New_York:20220417T130000
END:VEVENT
END:VCALENDAR
