BEGIN:VCALENDAR
PRODID:-//eluceo/ical//2.0/EN
VERSION:2.0
CALSCALE:GREGORIAN
BEGIN:VEVENT
UID:0174cc4cda9330c709139f903685da62
DTSTAMP:20260421T194322Z
SUMMARY:12:00 PM JCF Roundtable meeting
DESCRIPTION:Jewish Federation & Foundation of Northeast Florida\nCommunity 
 Calendar\nhttps://jewishjacksonville.org/jewish-federation-of-jacksonville
 -calendar/1200-pm-jcf-roundtable-meeting\n\nJCF roundtable meeting for mar
 keting\, planned giving and development professionals.
DTSTART;TZID=America/New_York:20151102T120000
DTEND;TZID=America/New_York:20151102T133000
END:VEVENT
END:VCALENDAR
