BEGIN:VCALENDAR
PRODID:-//eluceo/ical//2.0/EN
VERSION:2.0
CALSCALE:GREGORIAN
BEGIN:VEVENT
UID:541d73006a6d64efbc3bcf47b2e22f54
DTSTAMP:20260422T125346Z
SUMMARY:12:00 PM Hadassah Chai  Lunch and Ann Frank Exhibit tour
DESCRIPTION:Jewish Federation & Foundation of Northeast Florida\nCommunity 
 Calendar\nhttps://jewishjacksonville.org/jewish-federation-of-jacksonville
 -calendar/1200-pm-hadassah-chai-lunch-and-ann-frank-exhibit-tour\n\nJoin u
 s for the Hadassah Chai Lunch followed by a tour of the Anne Frank Exhib
 it to be featured at the Museum of Science and History.\n\nLunch will begi
 n at 12:00 PM followed by the tour at 2:00 PM.
DTSTART;TZID=America/New_York:20170119T120000
DTEND;TZID=America/New_York:20170119T160000
END:VEVENT
END:VCALENDAR
