BEGIN:VCALENDAR
PRODID:-//eluceo/ical//2.0/EN
VERSION:2.0
CALSCALE:GREGORIAN
BEGIN:VEVENT
UID:bcd2fb63162fb4de5d06194c87cbe3cf
DTSTAMP:20260423T224300Z
SUMMARY:12:00 pm Federation Executive Committee Meeting
DESCRIPTION:Jewish Federation & Foundation of Northeast Florida\nCommunity 
 Calendar\nhttps://jewishjacksonville.org/jewish-federation-of-jacksonville
 -calendar/1200-pm-federation-executive-committee-meeting\n\nFederation Exe
 cutive Committee Meeting \n\nJCA \n\n12:00 pm 
DTSTART;TZID=America/New_York:20210902T120000
DTEND;TZID=America/New_York:20210902T130000
END:VEVENT
END:VCALENDAR
