BEGIN:VCALENDAR
PRODID:-//eluceo/ical//2.0/EN
VERSION:2.0
CALSCALE:GREGORIAN
BEGIN:VEVENT
UID:8d100baab04b503e2d38b167a1a277f1
DTSTAMP:20260423T123137Z
SUMMARY:12:00 PM Etz Chaim Yom Limmud with Dr. Eric Brown
DESCRIPTION:Jewish Federation & Foundation of Northeast Florida\nCommunity 
 Calendar\nhttps://jewishjacksonville.org/jewish-federation-of-jacksonville
 -calendar/1200-pm-etz-chaim-yom-limmud-with-dr-eric-brown\n\nEtz Chaim\, Y
 om Limmud with Dr. Eric Brown\,\n\nContact: Rabbi Avi Feigenbaum
DTSTART;TZID=America/New_York:20190210T120000
DTEND;TZID=America/New_York:20190210T140000
END:VEVENT
END:VCALENDAR
