BEGIN:VCALENDAR
PRODID:-//eluceo/ical//2.0/EN
VERSION:2.0
CALSCALE:GREGORIAN
BEGIN:VEVENT
UID:86fc20df20b9f05749f2b6c4a671ce1b
DTSTAMP:20260425T215913Z
SUMMARY:12 PM Women's Philanthropy Steering Committee Meeting
DESCRIPTION:Jewish Federation & Foundation of Northeast Florida\nCommunity 
 Calendar\nhttps://jewishjacksonville.org/jewish-federation-of-jacksonville
 -calendar/12-pm-womens-philanthropy-steering-committee-meeting-May\n\n12 P
 M Women's Philanthropy Steering Committee Meeting \n\nJCA
DTSTART;TZID=America/New_York:20220510T120000
DTEND;TZID=America/New_York:20220510T130000
END:VEVENT
END:VCALENDAR
