BEGIN:VCALENDAR
PRODID:-//eluceo/ical//2.0/EN
VERSION:2.0
CALSCALE:GREGORIAN
BEGIN:VEVENT
UID:17fd90395ca710e535b251edbd41c5fb
DTSTAMP:20260420T175624Z
SUMMARY:12 PM JCA Real Estate Lunch 'n Learn
DESCRIPTION:Jewish Federation & Foundation of Northeast Florida\nCommunity 
 Calendar\nhttps://jewishjacksonville.org/jewish-federation-of-jacksonville
 -calendar/12-pm-jca-real-estate-lunch-n-learn\n\nReal Estate Lunch ‘n Le
 arn \n\nReal Estate Agent Cara Ferreira\, shares her tips for preparing to
  put your home on the market. Come learn great tricks and ideas for gettin
 g your house ready for showings\, how to sell it fast and how to get the m
 ost money in the shortest time possible. Feel free to bring your own Koshe
 r-style lunch. \n\nMon\, Apr 25 | 12 pm\nFree to the community \n\nFor 
 more information\, please contact Rachel Sandler at rachel.sandler@jcajax.
 org or (904) 730-2100 ex...
DTSTART;TZID=America/New_York:20220325T120000
DTEND;TZID=America/New_York:20220325T130000
END:VEVENT
END:VCALENDAR
