BEGIN:VCALENDAR
PRODID:-//eluceo/ical//2.0/EN
VERSION:2.0
CALSCALE:GREGORIAN
BEGIN:VEVENT
UID:fa0d0bddd430976b545fde8794fceb3e
DTSTAMP:20260422T055704Z
SUMMARY:12 PM - Jacksonville Jewish History
DESCRIPTION:Jewish Federation & Foundation of Northeast Florida\nCommunity 
 Calendar\nhttps://jewishjacksonville.org/jewish-federation-of-jacksonville
 -calendar/12-pm-jacksonville-jewish-history\n\nA talk on Jacksonville Jewi
 sh history given by Temple Archivist Hazel Mack\n\nTime: 12 p.m.\nPlace: M
 andarin Public Library
DTSTART;TZID=America/New_York:20170508T120000
DTEND;TZID=America/New_York:20170508T130000
END:VEVENT
END:VCALENDAR
