BEGIN:VCALENDAR
PRODID:-//eluceo/ical//2.0/EN
VERSION:2.0
CALSCALE:GREGORIAN
BEGIN:VEVENT
UID:29f20ac82f54526d9ce21e4d52cf0475
DTSTAMP:20260424T202434Z
SUMMARY:12 PM Federation Women's Philanthropy Steering Committee Meeting
DESCRIPTION:Jewish Federation & Foundation of Northeast Florida\nCommunity 
 Calendar\nhttps://jewishjacksonville.org/jewish-federation-of-jacksonville
 -calendar/12-federation-womens-philanthropy-steering-committee-meeting\n\n
 Women's Philanthropy Steering Committee Meeting\n\nJCA 12PM 
DTSTART;TZID=America/New_York:20220314T120000
DTEND;TZID=America/New_York:20220314T130000
END:VEVENT
END:VCALENDAR
