BEGIN:VCALENDAR
PRODID:-//eluceo/ical//2.0/EN
VERSION:2.0
CALSCALE:GREGORIAN
BEGIN:VEVENT
UID:8642d7841d783f9c0883aadc3f50b7e1
DTSTAMP:20260425T234043Z
SUMMARY:11AM JJC SAC Meeting
DESCRIPTION:Jewish Federation & Foundation of Northeast Florida\nCommunity 
 Calendar\nhttps://jewishjacksonville.org/jewish-federation-of-jacksonville
 -calendar/11am-jjc-sac-meeting-8315\n\n11AM SAC MEETING - JJC
DTSTART;TZID=America/New_York:20130702T110000
DTEND;TZID=America/New_York:20130702T123000
END:VEVENT
END:VCALENDAR
