BEGIN:VCALENDAR
PRODID:-//eluceo/ical//2.0/EN
VERSION:2.0
CALSCALE:GREGORIAN
BEGIN:VEVENT
UID:1c985b647a171927e6b0fc3363921b08
DTSTAMP:20260426T043847Z
SUMMARY:11AM JCA Family Fun Run
DESCRIPTION:Jewish Federation & Foundation of Northeast Florida\nCommunity 
 Calendar\nhttps://jewishjacksonville.org/jewish-federation-of-jacksonville
 -calendar/11am-jca-family-fun-run\n\nCommunity Program\n\nJCA Family Fun R
 un 11am-3pm\n\n​http://reg.jcajax.org/OnlineEdge/programlist.html
DTSTART;TZID=America/New_York:20160530T110000
DTEND;TZID=America/New_York:20160530T150000
END:VEVENT
END:VCALENDAR
