BEGIN:VCALENDAR
PRODID:-//eluceo/ical//2.0/EN
VERSION:2.0
CALSCALE:GREGORIAN
BEGIN:VEVENT
UID:79fad0f45c956c34f6a4913a5007b019
DTSTAMP:20260421T012122Z
SUMMARY:11:30AM JFCS Holocaust Survivors Family Gathering
DESCRIPTION:Jewish Federation & Foundation of Northeast Florida\nCommunity 
 Calendar\nhttps://jewishjacksonville.org/jewish-federation-of-jacksonville
 -calendar/1130am-jfcs-holocaust-survivors-family-gathering-48700\n\n11:30A
 M JFCS Holocaust Survivors Family Gathering
DTSTART;TZID=America/New_York:20131127T113000
DTEND;TZID=America/New_York:20131127T130000
END:VEVENT
END:VCALENDAR
