BEGIN:VCALENDAR
PRODID:-//eluceo/ical//2.0/EN
VERSION:2.0
CALSCALE:GREGORIAN
BEGIN:VEVENT
UID:50629cc001a61f0629b45c5d6eaa1303
DTSTAMP:20260423T011245Z
SUMMARY:11:30AM JFCS Holocaust Survivors "Eat and Schmooze"
DESCRIPTION:Jewish Federation & Foundation of Northeast Florida\nCommunity 
 Calendar\nhttps://jewishjacksonville.org/jewish-federation-of-jacksonville
 -calendar/1130am-jfcs-holocaust-survivors-eat-and-schmooze-8510\n\n11:30AM
  JFCS Holocaust Survivors "Eat and Schmooze
DTSTART;TZID=America/New_York:20140615T113000
DTEND;TZID=America/New_York:20140615T130000
END:VEVENT
END:VCALENDAR
