BEGIN:VCALENDAR
PRODID:-//eluceo/ical//2.0/EN
VERSION:2.0
CALSCALE:GREGORIAN
BEGIN:VEVENT
UID:9df098e59a79dbd95a834b2f9f3b880f
DTSTAMP:20260426T000750Z
SUMMARY:11:30 AM JFCS Annual Event Committee Wrap-Up Luncheon
DESCRIPTION:Jewish Federation & Foundation of Northeast Florida\nCommunity 
 Calendar\nhttps://jewishjacksonville.org/jewish-federation-of-jacksonville
 -calendar/1130-am-jfcs-annual-event-wrap-up-luncheon\n\nJFCS Annual Event 
 wrap up for 2019 Annual Event Committee.
DTSTART;TZID=America/New_York:20190410T113000
DTEND;TZID=America/New_York:20190410T133000
END:VEVENT
END:VCALENDAR
