BEGIN:VCALENDAR
PRODID:-//eluceo/ical//2.0/EN
VERSION:2.0
CALSCALE:GREGORIAN
BEGIN:VEVENT
UID:b403b20c31f3567f645bd3b2e4cecefc
DTSTAMP:20260425T004845Z
SUMMARY:11:15AM  DuBow Preschool Shalom Baby
DESCRIPTION:Jewish Federation & Foundation of Northeast Florida\nCommunity 
 Calendar\nhttps://jewishjacksonville.org/jewish-federation-of-jacksonville
 -calendar/1115am--dubow-preschool-shalom-baby-48811\n\n11:15AM  DuBow Pres
 chool Shalom Baby
DTSTART;TZID=America/New_York:20140110T111500
DTEND;TZID=America/New_York:20140110T121500
END:VEVENT
END:VCALENDAR
