BEGIN:VCALENDAR
PRODID:-//eluceo/ical//2.0/EN
VERSION:2.0
CALSCALE:GREGORIAN
BEGIN:VEVENT
UID:d3022f56cd6d0d91a1755044ae5fc0d8
DTSTAMP:20260421T231312Z
SUMMARY:11:00AM Congregation Ahavath Chesed Purim Carnival
DESCRIPTION:Jewish Federation & Foundation of Northeast Florida\nCommunity 
 Calendar\nhttps://jewishjacksonville.org/jewish-federation-of-jacksonville
 -calendar/1100am-congregation-ahavath-chesed-purim-carnival\n\nPurim Carni
 val\n\nCOME IN COSTUME & ENJOY\n\nCarnival Games\, Art Stations\, Game Tru
 ck\, Magician\, Food and Prizes\n\n$8 Per Person Includes: Hot dogs\, Nugg
 ets\, Fries\, Pizza\, popcorn\, Cookies\, Hamentaschen\, Juice\, Beer and 
 Mimosas\n\n(children under 3 years old included with adult)\n\n 
DTSTART;TZID=America/New_York:20220306T110000
DTEND;TZID=America/New_York:20220306T130000
END:VEVENT
END:VCALENDAR
