BEGIN:VCALENDAR
PRODID:-//eluceo/ical//2.0/EN
VERSION:2.0
CALSCALE:GREGORIAN
BEGIN:VEVENT
UID:b285694f97bef0d9884f4e186791a7c4
DTSTAMP:20260422T213552Z
SUMMARY:11:00 AM The Temple - Pulpit Swap Weekend
DESCRIPTION:Jewish Federation & Foundation of Northeast Florida\nCommunity 
 Calendar\nhttps://jewishjacksonville.org/jewish-federation-of-jacksonville
 -calendar/1100-am-the-temple-pulpit-swap-weekend\n\nOn Sunday\, January 12
 \, 2025 at 11:00 AM all are welcome to come and support Rabbi Glasser as s
 he leads services at Hendricks Avenue Baptist.
DTSTART;TZID=America/New_York:20250112T110000
DTEND;TZID=America/New_York:20250112T120000
END:VEVENT
END:VCALENDAR
