BEGIN:VCALENDAR
PRODID:-//eluceo/ical//2.0/EN
VERSION:2.0
CALSCALE:GREGORIAN
BEGIN:VEVENT
UID:fafb81863ea1a86a6f536a3439eeb272
DTSTAMP:20260421T165228Z
SUMMARY:11:00 AM JJC Vashi's Shuk (Etta's Shuk) Judaica Shop BIG ANNUAL SAL
 E
DESCRIPTION:Jewish Federation & Foundation of Northeast Florida\nCommunity 
 Calendar\nhttps://jewishjacksonville.org/jewish-federation-of-jacksonville
 -calendar/1100-am-jjc-vashis-shuk-ettas-shuk-judaica-shop-big-annual-sale\
 n\nJJC Vashi's Shuk (Etta's Shuk) Judaica Shop BIG ANNUAL SALE 3662 Crown 
 Point Road\, 32257
DTSTART;TZID=America/New_York:20220313T110000
DTEND;TZID=America/New_York:20220313T160000
END:VEVENT
END:VCALENDAR
