BEGIN:VCALENDAR
PRODID:-//eluceo/ical//2.0/EN
VERSION:2.0
CALSCALE:GREGORIAN
BEGIN:VEVENT
UID:729e46702d302f5350711cf5c7ce6199
DTSTAMP:20260420T093341Z
SUMMARY:11:00 AM "What Can JFCS Do For You" Luncheon
DESCRIPTION:Jewish Federation & Foundation of Northeast Florida\nCommunity 
 Calendar\nhttps://jewishjacksonville.org/jewish-federation-of-jacksonville
 -calendar/1100-am-jfcs-luncheon\n\nJFCS will highlight its Jewish Service
 s department's past\, present and future.​
DTSTART;TZID=America/New_York:20171019T110000
DTEND;TZID=America/New_York:20171019T133000
END:VEVENT
END:VCALENDAR
