BEGIN:VCALENDAR
PRODID:-//eluceo/ical//2.0/EN
VERSION:2.0
CALSCALE:GREGORIAN
BEGIN:VEVENT
UID:d11a08961a5429379021b265a95af6be
DTSTAMP:20260422T110440Z
SUMMARY:11:00 AM Jacksonville Jewish Center Youth T'fila Prep Grades 3rd - 
 5th
DESCRIPTION:Jewish Federation & Foundation of Northeast Florida\nCommunity 
 Calendar\nhttps://jewishjacksonville.org/jewish-federation-of-jacksonville
 -calendar/1100-am-jacksonville-jewish-center-youth-tfila-prep-3rd-5th\n\nY
 outh T'fila Prep w/ Justin Sakofs Zoom\n\n\n\nhttps://us02web.zoom.us/j/8
 9397850394?pwd=ZVhLTHBxY25Nd3BCYzBicXFqNmtnZz09
DTSTART;TZID=America/New_York:20200629T110000
DTEND;TZID=America/New_York:20200629T120000
END:VEVENT
END:VCALENDAR
