BEGIN:VCALENDAR
PRODID:-//eluceo/ical//2.0/EN
VERSION:2.0
CALSCALE:GREGORIAN
BEGIN:VEVENT
UID:b111f48563ace20d69c1d17b45b9d14d
DTSTAMP:20260424T033917Z
SUMMARY:11:00 AM Jacksonville Jewish Center Youth Services Grades 3rd - 5th
  Zoom
DESCRIPTION:Jewish Federation & Foundation of Northeast Florida\nCommunity 
 Calendar\nhttps://jewishjacksonville.org/jewish-federation-of-jacksonville
 -calendar/1100-am-jacksonville-jewish-center-youth-services-grades-3rd-5th
 -zoom\n\nYouth Services for grades 3rd - 5th \n\nhttps://www.jaxjewishcen
 ter.org/engage/full-calendar/\n\nhttps://us02web.zoom.us/j/86359754363?pwd
 =UGROcXB0VC9yckhCNzFKU0ROVW52QT09
DTSTART;TZID=America/New_York:20200711T110000
DTEND;TZID=America/New_York:20200712T120000
END:VEVENT
END:VCALENDAR
