BEGIN:VCALENDAR
PRODID:-//eluceo/ical//2.0/EN
VERSION:2.0
CALSCALE:GREGORIAN
BEGIN:VEVENT
UID:93d3ed18fe6aa86c6455010d7e04da17
DTSTAMP:20260420T124354Z
SUMMARY:11:00 AM Jacksonville Jewish Center Youth Services Grades 3rd - 5th
  Zoom
DESCRIPTION:Jewish Federation & Foundation of Northeast Florida\nCommunity 
 Calendar\nhttps://jewishjacksonville.org/jewish-federation-of-jacksonville
 -calendar/1100-am-jacksonville-jewish-center-youth-services-grades-3rd-5th
 -virtual\n\nYouth Services for grades 3rd - 5th \n\nhttps://www.jaxjewish
 center.org/engage/full-calendar/\n\nhttps://us02web.zoom.us/j/86359754363?
 pwd=UGROcXB0VC9yckhCNzFKU0ROVW52QT09
DTSTART;TZID=America/New_York:20200627T110000
DTEND;TZID=America/New_York:20200627T120000
END:VEVENT
END:VCALENDAR
