BEGIN:VCALENDAR
PRODID:-//eluceo/ical//2.0/EN
VERSION:2.0
CALSCALE:GREGORIAN
BEGIN:VEVENT
UID:d5e2f30637168cbe81dcd814ae142865
DTSTAMP:20260423T142747Z
SUMMARY:11:00 AM Jacksonville Jewish Center Middle/High School RH Service
DESCRIPTION:Jewish Federation & Foundation of Northeast Florida\nCommunity 
 Calendar\nhttps://jewishjacksonville.org/jewish-federation-of-jacksonville
 -calendar/1100-am-jacksonville-jewish-center-middlehigh-school-rh-service-
 virtual\n\nMiddle/High School RH Service (in-person/virtual)\n\nSunday\, S
 eptember 20⋅11:00am – 12:30pm\n\n \n\nAll Zoom links are located in t
 he calendar portion of The Jacksonville Jewish Centers website https://ww
 w.jaxjewishcenter.org/engage/full-calendar/
DTSTART;TZID=America/New_York:20200920T110000
DTEND;TZID=America/New_York:20200920T123000
END:VEVENT
END:VCALENDAR
