BEGIN:VCALENDAR
PRODID:-//eluceo/ical//2.0/EN
VERSION:2.0
CALSCALE:GREGORIAN
BEGIN:VEVENT
UID:17a616da55f71672af735cba20efe1c7
DTSTAMP:20260420T174253Z
SUMMARY:11:00 AM Jacksonville Hadassah Summer Book Review
DESCRIPTION:Jewish Federation & Foundation of Northeast Florida\nCommunity 
 Calendar\nhttps://jewishjacksonville.org/jewish-federation-of-jacksonville
 -calendar/1100-am-jacksonville-hadassah-summer-book-review-2\n\nTuesday\, 
 July 14 – 11 a.m.  Here All Along\, by Sarah Hurwitz \n\nReviewed by 
 Sue Ann Blumenthal  \n\nRSVP to JacksonvilleHadassah@gmail.com to rece
 ive  Zoom link and password
DTSTART;TZID=America/New_York:20200714T110000
DTEND;TZID=America/New_York:20200714T120000
END:VEVENT
END:VCALENDAR
