BEGIN:VCALENDAR
PRODID:-//eluceo/ical//2.0/EN
VERSION:2.0
CALSCALE:GREGORIAN
BEGIN:VEVENT
UID:27040c68ddf57a414462a4a54eb4a6a2
DTSTAMP:20260422T125221Z
SUMMARY:11:00 AM Jacksonville Jewish Center From the Rabbi's Kitchen to You
 rs
DESCRIPTION:Jewish Federation & Foundation of Northeast Florida\nCommunity 
 Calendar\nhttps://jewishjacksonville.org/jewish-federation-of-jacksonville
 -calendar/1100-am-from-the-rabbis-kitchen-to-yours\n\nhttps://www.jaxjewis
 hcenter.org/engage/full-calendar/\n\nFrom the Rabbi's Kitchen to Yours... 
 with Rabbi Shira Rosenblum\n 
DTSTART;TZID=America/New_York:20200527T110000
DTEND;TZID=America/New_York:20200527T120000
END:VEVENT
END:VCALENDAR
