BEGIN:VCALENDAR
PRODID:-//eluceo/ical//2.0/EN
VERSION:2.0
CALSCALE:GREGORIAN
BEGIN:VEVENT
UID:25aac109cd231b1a5d9007a45bb46452
DTSTAMP:20260421T080610Z
SUMMARY:11:00 AM Congregation Ahavath Chesed Purim Carnival
DESCRIPTION:Jewish Federation & Foundation of Northeast Florida\nCommunity 
 Calendar\nhttps://jewishjacksonville.org/jewish-federation-of-jacksonville
 -calendar/1100-am-congregation-ahavath-chesed-purim-carnival\n\nPURIM CARN
 IVAL\n\nCome in Costume & Enjoy \n\nCarnival Games\, Art Stations\, Game 
 Truck\, Magician\, Food and Prizes\n\n$8 per person includes:\n\nHot dogs\
 , Nuggets\, Fries\, Pizza\, Popcorn\, COokies\, Hamentashchen\, Juice\, Be
 er & Mimosas\n\n(Under 3 years old included with Adult)
DTSTART;TZID=America/New_York:20220306T110000
DTEND;TZID=America/New_York:20220306T130000
END:VEVENT
END:VCALENDAR
