BEGIN:VCALENDAR
PRODID:-//eluceo/ical//2.0/EN
VERSION:2.0
CALSCALE:GREGORIAN
BEGIN:VEVENT
UID:cea91a07404c2b4b039e4e8396df4b77
DTSTAMP:20260421T174934Z
SUMMARY:11 AM Chapter Endnotes Book Club
DESCRIPTION:Jewish Federation & Foundation of Northeast Florida\nCommunity 
 Calendar\nhttps://jewishjacksonville.org/jewish-federation-of-jacksonville
 -calendar/11-am-chapter-endnotes-book-club\n\nChapter Endnotes\nIn-Person 
 & Online Book Discussions Celebrating 14 Years of Literary Repartee is Bac
 k!\n\nSignup today to reserve your spot! New season starts in September 20
 21\n\nSeptember reading title:\nAll Passion Spent by Vita Sackville-West\n
 \nIn-person book club discussion:\nSeptember 7\, 2021 @ 7pm EST\n\nOnline 
 book club discussion:\nSeptember 10\, 2021 @ 11am EST\n\n \n\nRSVP today!
 \n\nChapterEndnotes.com/RSVP
DTSTART;TZID=America/New_York:20210910T110000
DTEND;TZID=America/New_York:20210910T130000
END:VEVENT
END:VCALENDAR
