BEGIN:VCALENDAR
PRODID:-//eluceo/ical//2.0/EN
VERSION:2.0
CALSCALE:GREGORIAN
BEGIN:VEVENT
UID:0a8f14478f34eff1035dce76565019fe
DTSTAMP:20260420T174243Z
SUMMARY:10AM The Annual Mommy Sale
DESCRIPTION:Jewish Federation & Foundation of Northeast Florida\nCommunity 
 Calendar\nhttps://jewishjacksonville.org/jewish-federation-of-jacksonville
 -calendar/10am-the-annual-mommy-sale\n\nOPEN TO EVERYONE!\n\n \n\nThe bes
 t indoor yard sale of baby & toddler items around!\n\n \n\nThis is NOT co
 nsignment-- sellers rent a table for $20 and keep ALL their profits\, so p
 rices are lower!\n\n \n\nGather up your kids' outgrown toys\, gear\, and 
 clothes--grab a friend and make some extra cash!  New parents--this is a 
 perfect place to stock up on baby gear!  \n\n \n\nHot dogs and veggie wr
 aps for sale from Margo's Catering--grab lunch!\n\n \n\n3662 Crown Point 
 Rd\, Gymnasium\, 10am-2...
DTSTART;TZID=America/New_York:20160306T100000
DTEND;TZID=America/New_York:20160306T140000
END:VEVENT
END:VCALENDAR
