BEGIN:VCALENDAR
PRODID:-//eluceo/ical//2.0/EN
VERSION:2.0
CALSCALE:GREGORIAN
BEGIN:VEVENT
UID:3a15c1f7ab9bad727e02217daf8d3661
DTSTAMP:20260425T115222Z
SUMMARY:10AM MJGDS Kitah Alef Consecration
DESCRIPTION:Jewish Federation & Foundation of Northeast Florida\nCommunity 
 Calendar\nhttps://jewishjacksonville.org/jewish-federation-of-jacksonville
 -calendar/10am-mjgds-kitah-alef-consecration\n\nMJGDS Kitah Alef Consecrat
 ion
DTSTART;TZID=America/New_York:20150207T100000
DTEND;TZID=America/New_York:20150207T120000
END:VEVENT
END:VCALENDAR
