BEGIN:VCALENDAR
PRODID:-//eluceo/ical//2.0/EN
VERSION:2.0
CALSCALE:GREGORIAN
BEGIN:VEVENT
UID:ac0ec76c87a36b18e00d722459d957b0
DTSTAMP:20260421T111139Z
SUMMARY:10AM JCA JAway Concert
DESCRIPTION:Jewish Federation & Foundation of Northeast Florida\nCommunity 
 Calendar\nhttps://jewishjacksonville.org/jewish-federation-of-jacksonville
 -calendar/10am-jca-jaway-concert\n\nCommunity Program\n\nJCA JAway Concer
 t\n\nhttp://reg.jcajax.org/OnlineEdge/programlist.html
DTSTART;TZID=America/New_York:20160321T100000
DTEND;TZID=America/New_York:20160321T120000
END:VEVENT
END:VCALENDAR
