BEGIN:VCALENDAR
PRODID:-//eluceo/ical//2.0/EN
VERSION:2.0
CALSCALE:GREGORIAN
BEGIN:VEVENT
UID:206200bafddb2fc6d43e2e7c9d1db562
DTSTAMP:20260422T022804Z
SUMMARY:10A River Garden Board Retreat
DESCRIPTION:Jewish Federation & Foundation of Northeast Florida\nCommunity 
 Calendar\nhttps://jewishjacksonville.org/jewish-federation-of-jacksonville
 -calendar/10a-river-garden-board-retreat\n\n10A River Garden Board Retreat
DTSTART;TZID=America/New_York:20130428T100000
DTEND;TZID=America/New_York:20130428T103000
END:VEVENT
END:VCALENDAR
