BEGIN:VCALENDAR
PRODID:-//eluceo/ical//2.0/EN
VERSION:2.0
CALSCALE:GREGORIAN
BEGIN:VEVENT
UID:b5e12b9c8a5331e891d451dbd521cef7
DTSTAMP:20260421T194848Z
SUMMARY:10:30AM Temple Shabbat Morning Worship
DESCRIPTION:Jewish Federation & Foundation of Northeast Florida\nCommunity 
 Calendar\nhttps://jewishjacksonville.org/jewish-federation-of-jacksonville
 -calendar/1030am-temple-morning\n\nShabbat Morning worship follows weekly 
 Torah study every Saturday morning at 10:30 a.m. Led by Rabbi's Lief and C
 ohen\, this lively worship service is open to everyone. Our youth become B
 ar/Bat Mitzvah during this service.
DTSTART;TZID=America/New_York:20150808T103000
DTEND;TZID=America/New_York:20150808T120000
END:VEVENT
END:VCALENDAR
