BEGIN:VCALENDAR
PRODID:-//eluceo/ical//2.0/EN
VERSION:2.0
CALSCALE:GREGORIAN
BEGIN:VEVENT
UID:4cf6c063132254f30c4c058f5548870f
DTSTAMP:20260422T174840Z
SUMMARY:10:30AM Shalom Jax Beaches Java
DESCRIPTION:Jewish Federation & Foundation of Northeast Florida\nCommunity 
 Calendar\nhttps://jewishjacksonville.org/jewish-federation-of-jacksonville
 -calendar/1030am-shalom-jax-beaches-java\n\nJoin us for Beaches Java! Even
 t info to come.
DTSTART;TZID=America/New_York:20190312T103000
DTEND;TZID=America/New_York:20190312T123000
END:VEVENT
END:VCALENDAR
