BEGIN:VCALENDAR
PRODID:-//eluceo/ical//2.0/EN
VERSION:2.0
CALSCALE:GREGORIAN
BEGIN:VEVENT
UID:506956d92fe392fcf00fd4be7b77ad65
DTSTAMP:20260420T174103Z
SUMMARY:10:30AM Federation FUNDRAISER Major Gifts Brunch
DESCRIPTION:Jewish Federation & Foundation of Northeast Florida\nCommunity 
 Calendar\nhttps://jewishjacksonville.org/jewish-federation-of-jacksonville
 -calendar/1030am-federation-fundraiser-major-gifts-brunch-48503\n\n10:30AM
  Federation FUNDRAISER Major Gifts Brunch
DTSTART;TZID=America/New_York:20140126T103000
DTEND;TZID=America/New_York:20140126T133000
END:VEVENT
END:VCALENDAR
