BEGIN:VCALENDAR
PRODID:-//eluceo/ical//2.0/EN
VERSION:2.0
CALSCALE:GREGORIAN
BEGIN:VEVENT
UID:4badd871f68e5fea08689fb497f9bbe2
DTSTAMP:20260424T093914Z
SUMMARY:10:30 AM The Temple Wisdom via Zoom
DESCRIPTION:Jewish Federation & Foundation of Northeast Florida\nCommunity 
 Calendar\nhttps://jewishjacksonville.org/jewish-federation-of-jacksonville
 -calendar/1030-am-the-temple-wisdom\n\nWisdom is not Torah Study\, but the
  teachings from Torah and other learned Jewish texts are often referenced.
  Wisdom meets every Tuesday at 10:30 AM via Zoom. This group focuses its d
 iscussion on contemporary issues viewed through a Jewish lens. Share some 
 wisdom\, gain some wisdom-everyone is welcome. \n\n \n\nRSVP Here: https:
 //forms.gle/m7PNxwtnhzLVhjpt5\n\n 
DTSTART;TZID=America/New_York:20200602T103000
DTEND;TZID=America/New_York:20200602T113000
END:VEVENT
END:VCALENDAR
