BEGIN:VCALENDAR
PRODID:-//eluceo/ical//2.0/EN
VERSION:2.0
CALSCALE:GREGORIAN
BEGIN:VEVENT
UID:6ff340bb2998b3b655d38e9d174bb4ad
DTSTAMP:20260421T213713Z
SUMMARY:10:30 AM Sisterhood Game Day at Beth El
DESCRIPTION:Jewish Federation & Foundation of Northeast Florida\nCommunity 
 Calendar\nhttps://jewishjacksonville.org/jewish-federation-of-jacksonville
 -calendar/1030-am-sisterhood-game-day-at-beth-el\n\nSisterhood Game Day at
  Beth El.
DTSTART;TZID=America/New_York:20181009T103000
DTEND;TZID=America/New_York:20181009T133000
END:VEVENT
END:VCALENDAR
