BEGIN:VCALENDAR
PRODID:-//eluceo/ical//2.0/EN
VERSION:2.0
CALSCALE:GREGORIAN
BEGIN:VEVENT
UID:c6277f52b28cdf7916c3b60f31d08530
DTSTAMP:20260422T163250Z
SUMMARY:10:30 AM River Garden Auxiliary Special Event 'Denim Daze'
DESCRIPTION:Jewish Federation & Foundation of Northeast Florida\nCommunity 
 Calendar\nhttps://jewishjacksonville.org/jewish-federation-of-jacksonville
 -calendar/1030-am-river-garden-auxiliary-special-event-denim-daze\n\nLOCAT
 ION: Embassy Suites Hotel - Baymeadows\n\nThe country buffet lunch menu wi
 ll have southern food that is sure to please all palates.  Comedian Juani
 ta Lolita will have everyone laughing and the country music will have toes
  tapping.  There will be a variety of raffle prizes that include weekend 
 stays\, cash prizes and lots of great items for many lucky winners.\n\nAnd
 \, wait ‘til you see the fabulous flea market flips!  Our local artists
  have made some unique pieces of art\, plus we’ll...
DTSTART;TZID=America/New_York:20190514T103000
DTEND;TZID=America/New_York:20190514T133000
END:VEVENT
END:VCALENDAR
