BEGIN:VCALENDAR
PRODID:-//eluceo/ical//2.0/EN
VERSION:2.0
CALSCALE:GREGORIAN
BEGIN:VEVENT
UID:f530c62c7b214dbc5ebb428f2d64b0f8
DTSTAMP:20260424T032938Z
SUMMARY:10:30 AM Lag B'Omer Kickball and BBQ at Beth El
DESCRIPTION:Jewish Federation & Foundation of Northeast Florida\nCommunity 
 Calendar\nhttps://jewishjacksonville.org/jewish-federation-of-jacksonville
 -calendar/1030-am-lag-b\n\nLag B'Omer Kickball and BBQ at Beth El.
DTSTART;TZID=America/New_York:20190505T103000
DTEND;TZID=America/New_York:20190505T170000
END:VEVENT
END:VCALENDAR
