BEGIN:VCALENDAR
PRODID:-//eluceo/ical//2.0/EN
VERSION:2.0
CALSCALE:GREGORIAN
BEGIN:VEVENT
UID:db8339574278d7347d1ff54828cab129
DTSTAMP:20260420T203420Z
SUMMARY:10:30 AM Jacksonville Jewish Center Gan Shabbat
DESCRIPTION:Jewish Federation & Foundation of Northeast Florida\nCommunity 
 Calendar\nhttps://jewishjacksonville.org/jewish-federation-of-jacksonville
 -calendar/1030-am-jacksonville-jewish-center-gan-shabbat\n\nGan Shabbat at
  the Ansbacher Gazebo
DTSTART;TZID=America/New_York:20211001T103000
DTEND;TZID=America/New_York:20211001T113000
END:VEVENT
END:VCALENDAR
