BEGIN:VCALENDAR
PRODID:-//eluceo/ical//2.0/EN
VERSION:2.0
CALSCALE:GREGORIAN
BEGIN:VEVENT
UID:3aeb95d9864dd46d5634d4828a9ea7b7
DTSTAMP:20260420T012835Z
SUMMARY:10:30 AM Federation Society of Healers Opening Event
DESCRIPTION:Jewish Federation & Foundation of Northeast Florida\nCommunity 
 Calendar\nhttps://jewishjacksonville.org/jewish-federation-of-jacksonville
 -calendar/1030-am-federation-society-of-healers-opening-event\n\nFeatured 
 Speaker: Amy Hirshberg Lederman\n\n"Compassinate Medicine\, Compassionate 
 Judaism: how Jewish values inspire best practices and enhance patient rel
 ationships"\n\n \n\n​$18 for dairy brunch and program\; kosher meal by 
 request\n\n \n\nEvent to be held at the home of Sue and Fred Eaglstein\;
  address provided upon completion of registration.\n\n \n\nRSVP HERE
DTSTART;TZID=America/New_York:20160828T103000
DTEND;TZID=America/New_York:20160828T120000
END:VEVENT
END:VCALENDAR
