BEGIN:VCALENDAR
PRODID:-//eluceo/ical//2.0/EN
VERSION:2.0
CALSCALE:GREGORIAN
BEGIN:VEVENT
UID:7e6e1836be98853ab29ed5a0514b6e1e
DTSTAMP:20260425T140601Z
SUMMARY:1030 AM Federation Major Gifts Brunch
DESCRIPTION:Jewish Federation & Foundation of Northeast Florida\nCommunity 
 Calendar\nhttps://jewishjacksonville.org/jewish-federation-of-jacksonville
 -calendar/1030-am-federation-major-gifts-brunch\n\nMajor Gifts Brunch\n\nS
 unday\, October 24\, 2021\n\n10:30 AM - 12:30 PM\n\nMore details to follow
 .
DTSTART;TZID=America/New_York:20211024T103000
DTEND;TZID=America/New_York:20211024T123000
END:VEVENT
END:VCALENDAR
