BEGIN:VCALENDAR
PRODID:-//eluceo/ical//2.0/EN
VERSION:2.0
CALSCALE:GREGORIAN
BEGIN:VEVENT
UID:861cad313b47bf4fdafbe31a33ad5fe3
DTSTAMP:20260426T032104Z
SUMMARY:10:30 AM Congregation Ahavath Chesed Tu B'Shavat Seder & Lunch
DESCRIPTION:Jewish Federation & Foundation of Northeast Florida\nCommunity 
 Calendar\nhttps://jewishjacksonville.org/jewish-federation-of-jacksonville
 -calendar/1030-am-congregation-ahavath-chesed-tu-bshavat-seder-lunch\n\n
DTSTART;TZID=America/New_York:20220118T000000
DTEND;TZID=America/New_York:20220118T235959
END:VEVENT
END:VCALENDAR
